BEGIN:VCALENDAR
PRODID:-//BradfieldClearyCalendar
VERSION:2.0
METHOD:PUBLISH
BEGIN:VEVENT
URL:https://bradfieldcleary.com.au/7295256
ORGANIZER:info@bradfieldcleary.com.au
DTSTART:20190305T180000
DTEND:
LOCATION:25/206 Victoria Road,  Bellevue Hill
DTSTAMP:20190301T181139
SUMMARY:BradfieldCleary Auction - 25/206 Victoria Road,  Bellevue Hill
DESCRIPTION:Auction: 25/206 Victoria Road,  Bellevue Hill 
Tuesday 06:00 PM
Click the link for full listing information:https://bradfieldcleary.com.au/7295256
CLASS:PUBLIC
BEGIN:VALARM
TRIGGER:-PT1D
ACTION:DISPLAY
DESCRIPTION:Reminder
END:VALARM
END:VEVENT
END:VCALENDAR