BEGIN:VCALENDAR
PRODID:-//BradfieldClearyCalendar
VERSION:2.0
METHOD:PUBLISH
BEGIN:VEVENT
URL:https://bradfieldcleary.com.au/7295052
ORGANIZER:info@bradfieldcleary.com.au
DTSTART:19700101T100000
DTEND:
LOCATION:4 Fullerton Street,  Woollahra
DTSTAMP:20190301T181134
SUMMARY:BradfieldCleary Auction - 4 Fullerton Street,  Woollahra
DESCRIPTION:Auction: 4 Fullerton Street,  Woollahra 
Thursday 10:00 AM
Click the link for full listing information:https://bradfieldcleary.com.au/7295052
CLASS:PUBLIC
BEGIN:VALARM
TRIGGER:-PT1D
ACTION:DISPLAY
DESCRIPTION:Reminder
END:VALARM
END:VEVENT
END:VCALENDAR