BEGIN:VCALENDAR
PRODID:-//BradfieldClearyCalendar
VERSION:2.0
METHOD:PUBLISH
BEGIN:VEVENT
URL:https://bradfieldcleary.com.au/7313977
ORGANIZER:info@bradfieldcleary.com.au
DTSTART:20190305T180000
DTEND:
LOCATION:10 Patterson Street,  North Bondi
DTSTAMP:20190301T181144
SUMMARY:BradfieldCleary Auction - 10 Patterson Street,  North Bondi
DESCRIPTION:Auction: 10 Patterson Street,  North Bondi 
Tuesday 06:00 PM
Click the link for full listing information:https://bradfieldcleary.com.au/7313977
CLASS:PUBLIC
BEGIN:VALARM
TRIGGER:-PT1D
ACTION:DISPLAY
DESCRIPTION:Reminder
END:VALARM
END:VEVENT
END:VCALENDAR