BEGIN:VCALENDAR
PRODID:-//BradfieldClearyCalendar
VERSION:2.0
METHOD:PUBLISH
BEGIN:VEVENT
URL:https://bradfieldcleary.com.au/7303873
ORGANIZER:info@bradfieldcleary.com.au
DTSTART:20190305T180000
DTEND:
LOCATION:2/414 Edgecliff Road,  Woollahra
DTSTAMP:20190301T181149
SUMMARY:BradfieldCleary Auction - 2/414 Edgecliff Road,  Woollahra
DESCRIPTION:Auction: 2/414 Edgecliff Road,  Woollahra 
Tuesday 06:00 PM
Click the link for full listing information:https://bradfieldcleary.com.au/7303873
CLASS:PUBLIC
BEGIN:VALARM
TRIGGER:-PT1D
ACTION:DISPLAY
DESCRIPTION:Reminder
END:VALARM
END:VEVENT
END:VCALENDAR