BEGIN:VCALENDAR
PRODID:-//BradfieldClearyCalendar
VERSION:2.0
METHOD:PUBLISH
BEGIN:VEVENT
URL:https://bradfieldcleary.com.au/7328021
ORGANIZER:info@bradfieldcleary.com.au
DTSTART:20190312T180000
DTEND:
LOCATION:116 McElhone Street,  Woolloomooloo
DTSTAMP:20190301T181159
SUMMARY:BradfieldCleary Auction - 116 McElhone Street,  Woolloomooloo
DESCRIPTION:Auction: 116 McElhone Street,  Woolloomooloo 
Tuesday 06:00 PM
Click the link for full listing information:https://bradfieldcleary.com.au/7328021
CLASS:PUBLIC
BEGIN:VALARM
TRIGGER:-PT1D
ACTION:DISPLAY
DESCRIPTION:Reminder
END:VALARM
END:VEVENT
END:VCALENDAR