BEGIN:VCALENDAR
PRODID:-//BradfieldClearyCalendar
VERSION:2.0
METHOD:PUBLISH
BEGIN:VEVENT
URL:https://bradfieldcleary.com.au/7325248
ORGANIZER:info@bradfieldcleary.com.au
DTSTART:20190312T180000
DTEND:
LOCATION:65 Cameron Street,  Edgecliff
DTSTAMP:20190301T181204
SUMMARY:BradfieldCleary Auction - 65 Cameron Street,  Edgecliff
DESCRIPTION:Auction: 65 Cameron Street,  Edgecliff 
Tuesday 06:00 PM
Click the link for full listing information:https://bradfieldcleary.com.au/7325248
CLASS:PUBLIC
BEGIN:VALARM
TRIGGER:-PT1D
ACTION:DISPLAY
DESCRIPTION:Reminder
END:VALARM
END:VEVENT
END:VCALENDAR