BEGIN:VCALENDAR
PRODID:-//BradfieldClearyCalendar
VERSION:2.0
METHOD:PUBLISH
BEGIN:VEVENT
URL:https://bradfieldcleary.com.au/7332547
ORGANIZER:info@bradfieldcleary.com.au
DTSTART:20190319T180000
DTEND:
LOCATION:152 Eastern Avenue,  Kingsford
DTSTAMP:20190301T181210
SUMMARY:BradfieldCleary Auction - 152 Eastern Avenue,  Kingsford
DESCRIPTION:Auction: 152 Eastern Avenue,  Kingsford 
Tuesday 06:00 PM
Click the link for full listing information:https://bradfieldcleary.com.au/7332547
CLASS:PUBLIC
BEGIN:VALARM
TRIGGER:-PT1D
ACTION:DISPLAY
DESCRIPTION:Reminder
END:VALARM
END:VEVENT
END:VCALENDAR