BEGIN:VCALENDAR
PRODID:-//BradfieldClearyCalendar
VERSION:2.0
METHOD:PUBLISH
BEGIN:VEVENT
URL:https://bradfieldcleary.com.au/7332547
ORGANIZER:info@bradfieldcleary.com.au
DTSTART:20190309T110000
DTEND:20190309T114500
LOCATION:152 Eastern Avenue,  Kingsford
DTSTAMP:20190301T181114
SUMMARY:BradfieldCleary Open House - 152 Eastern Avenue,  Kingsford
DESCRIPTION:Open House: 152 Eastern Avenue,  Kingsford 
Saturday 11:00-11:45 AM
Click the link for full listing information:https://bradfieldcleary.com.au/7332547
CLASS:PUBLIC
BEGIN:VALARM
TRIGGER:-PT1D
ACTION:DISPLAY
DESCRIPTION:Reminder
END:VALARM
END:VEVENT
END:VCALENDAR