BEGIN:VCALENDAR
PRODID:-//BradfieldClearyCalendar
VERSION:2.0
METHOD:PUBLISH
BEGIN:VEVENT
URL:https://bradfieldcleary.com.au/7295256
ORGANIZER:info@bradfieldcleary.com.au
DTSTART:20190302T100000
DTEND:20190302T104500
LOCATION:25/206 Victoria Road,  Bellevue Hill
DTSTAMP:20190301T181014
SUMMARY:BradfieldCleary Open House - 25/206 Victoria Road,  Bellevue Hill
DESCRIPTION:Open House: 25/206 Victoria Road,  Bellevue Hill 
Saturday 10:00-10:45 AM
Click the link for full listing information:https://bradfieldcleary.com.au/7295256
CLASS:PUBLIC
BEGIN:VALARM
TRIGGER:-PT1D
ACTION:DISPLAY
DESCRIPTION:Reminder
END:VALARM
END:VEVENT
END:VCALENDAR