BEGIN:VCALENDAR
PRODID:-//BradfieldClearyCalendar
VERSION:2.0
METHOD:PUBLISH
BEGIN:VEVENT
URL:https://bradfieldcleary.com.au/
ORGANIZER:info@bradfieldcleary.com.au
DTSTART:19700101T100000
DTEND:19700101T100000
LOCATION:
DTSTAMP:20190301T180950
SUMMARY:BradfieldCleary Open House - 
DESCRIPTION:Open House:  
Thursday 10:00-10:00 AM
Click the link for full listing information:https://bradfieldcleary.com.au/
CLASS:PUBLIC
BEGIN:VALARM
TRIGGER:-PT1D
ACTION:DISPLAY
DESCRIPTION:Reminder
END:VALARM
END:VEVENT
END:VCALENDAR