BEGIN:VCALENDAR
PRODID:-//BradfieldClearyCalendar
VERSION:2.0
METHOD:PUBLISH
BEGIN:VEVENT
URL:https://bradfieldcleary.com.au/7328021
ORGANIZER:info@bradfieldcleary.com.au
DTSTART:20190306T121500
DTEND:20190306T130000
LOCATION:116 McElhone Street,  Woolloomooloo
DTSTAMP:20190301T181043
SUMMARY:BradfieldCleary Open House - 116 McElhone Street,  Woolloomooloo
DESCRIPTION:Open House: 116 McElhone Street,  Woolloomooloo 
Wednesday 12:15-01:00 PM
Click the link for full listing information:https://bradfieldcleary.com.au/7328021
CLASS:PUBLIC
BEGIN:VALARM
TRIGGER:-PT1D
ACTION:DISPLAY
DESCRIPTION:Reminder
END:VALARM
END:VEVENT
END:VCALENDAR