BEGIN:VCALENDAR
PRODID:-//BradfieldClearyCalendar
VERSION:2.0
METHOD:PUBLISH
BEGIN:VEVENT
URL:https://bradfieldcleary.com.au/7260502
ORGANIZER:info@bradfieldcleary.com.au
DTSTART:20190302T110000
DTEND:20190302T114500
LOCATION:4/129 Darling Point Road,  Darling Point
DTSTAMP:20190301T181028
SUMMARY:BradfieldCleary Open House - 4/129 Darling Point Road,  Darling Point
DESCRIPTION:Open House: 4/129 Darling Point Road,  Darling Point 
Saturday 11:00-11:45 AM
Click the link for full listing information:https://bradfieldcleary.com.au/7260502
CLASS:PUBLIC
BEGIN:VALARM
TRIGGER:-PT1D
ACTION:DISPLAY
DESCRIPTION:Reminder
END:VALARM
END:VEVENT
END:VCALENDAR