BEGIN:VCALENDAR
PRODID:-//BradfieldClearyCalendar
VERSION:2.0
METHOD:PUBLISH
BEGIN:VEVENT
URL:https://bradfieldcleary.com.au/7295511
ORGANIZER:info@bradfieldcleary.com.au
DTSTART:20190302T093000
DTEND:20190302T103000
LOCATION:6/27 The Avenue,  Rose Bay
DTSTAMP:20190301T181005
SUMMARY:BradfieldCleary Open House - 6/27 The Avenue,  Rose Bay
DESCRIPTION:Open House: 6/27 The Avenue,  Rose Bay 
Saturday 09:30-10:30 AM
Click the link for full listing information:https://bradfieldcleary.com.au/7295511
CLASS:PUBLIC
BEGIN:VALARM
TRIGGER:-PT1D
ACTION:DISPLAY
DESCRIPTION:Reminder
END:VALARM
END:VEVENT
END:VCALENDAR